Workbook

Sheet Aktivita
B3: Aktivita pro studenty
B5: Za pomocí internetu vyhledej následující údaje a vyplň je do políčka vedle. Během práce na počítači si zaznamenávej údaje do tištěné tabulky!
G7: Nalezený údaj:
B8: 1. Kolik g CO2 na vyrobenou kWh produkovala průměrně za předchozí rok česká energetika?
B9: 2. Kolik % se aktuálně vyrábí v ČR z nízkoemisních zdrojů? Jak definujete nízkoemisní zdroj?
B10: 3. V jeké zemi EU je v tento okamžik největší produkce CO2 z výroby elektřiny?
B11: 4. V jaké zemi EU je v tento okamžik nejmenší produkce CO2 z výroby elektřiny?
B16: Údaje z papírové tabulky přepište do kolonek níže:
B18: Činnosti | C18: Hodnota
B19: Počet vyhledání na Googlu
B20: Počet otevřených webových stránek
B21: Počet odeslaných zpráv přes Messenger / WhatsApp apod.
B22: Sledování monitoru, resp. práce na počítači (v minutách)
B23: Aktivita na sociální síti (v minutách)
B24: Počet dotazů/promtů zadaných ke zpracování nějakému modelu AI (Gemini, ChatGPT apod.)
B27: Při vyhledání požadovaných údajů bylo tvou činností vygenerováno přibližně:
B29: =Výpočty!E57 -> 0 | C29: gramů CO2 | D29: To pro představu představuje hmotnost | F29: =Výpočty!K7 -> 0 | G29: padesátikorun.

Sheet Dotazník
B3: Uhlíková stopa - dotazník
B5: 1. Odhadni, kolik promtů/dotazů denně zadáš ke zpracování do nějakého modelu AI včetně generování obrázků (Gemini, ChatGPT apod.):
D7: ks/den
B9: 2. Odhadni, kolik času ( v hodinách) každý den průměrně strávíš brouzdáním na internetu (do tohoto času nezahrnuj čas strávený na sociálních sítích nebo používání AI):
D11: hod.
B13: 3. Zjisti nebo odhadni, kolik času (v minutách) každý den průměrně trávíš na Facebooku, a to na PC, tabletu, mobilu dohromady (pro zjištění času v mobilní aplikaci můžeš započítat průměr za tento a minulý týden viz aplikace):
D15: min.
B17: Návod na zjištění času na Facebooku v mobilní aplikaci ↗
B19: 4. Zjisti nebo odhadni, kolik času (v minutách) každý den průměrně trávíš na Instagramu:
D21: min.
B23: Návod na zjištění času na Instagramu v mobilní aplikaci ↗
B25: 5. Zjisti nebo odhadni, kolik času (v hodinách) každý den průměrně trávíš na TikToku:
D27: min.
B29: Návod na zjištění času na Instagramu v mobilní aplikaci ↗
B31: 6. Zjisti nebo odhadni, kolik času (v minutách) každý den průměrně trávíš na YouTube, a to na PC, tabletu, mobilu dohromady:
D33: min.
B35: Návod na zjištění času na YouTube v mobilní aplikaci ↗
B37: 7. Odhadni, kolik času (v minutách) každý den průměrně trávíš na jiných sociálních sítích (např. X, SnapChat, Discord apod.):
D39: min.
B41: 8. Odhadni, kolik e-mailů každý den průměrně přijmeš nebo odešleš:
D43: ks
B45: 9. Odhadni, kolik času každý den průměrně strávíš jinou prací na počítači:
D47: hod.
B49: 10. Odhadni, kolik času každý den průměrně strávíš hraním her na mobilu / PC/ Playstationu / Xboxu apod.:
D51: hod.
B53: 11. Odhadni, kolik času každý den průměrně strávíš těžením kryptoměn (týká se pouze aktivních těžařů):
D55: hod.
B57: 12. Jak velký celkový objem transakcí s kryptoměnami ročně provedeš? (výpočet pro Bitcoin, u jiných kryptoměn uvést přibližný odhad ekvivalentní BTC)
D59: BTC
B61: 13. Odhadni, kolik běžných bankovních operací (včetně plateb na internetu nebo v obchodě) provedeš průměrně každý den (např. pro jednu platbu týdně lze uvést 0.14):
D63: ks
B65: 14. Odhadni, kolik času každý den průměrně strávíš sledováním čehokoliv na televizi:
D67: hod.
B69: 15. Odhadni, kolik km průměrně každý týden ujedeš v osobním automobilu:
D71: km/týden | G71: 1 | I71: typický počet cestujících ve vozidle
B73: 16. Odhadni, kolik km průměrně každý týden ujedeš ve vlaku:
D75: km/týden
B77: 17. Odhadni, kolik km průměrně každý týden ujedeš v linkovém autobuse:
D79: km/týden
B81: 18. Odhadni, kolik jízd v MHD denně průměrně absolvuješ:
D83: ks/den
B87: VYHODNOTIT →

Sheet Návod FB
B3: Návod na zjištění času stráveného na Facebooku: | O3: ←ZPĚT

Sheet Návod IG
B3: Návod na zjištění času stráveného na Instagramu: | O3: ←ZPĚT

Sheet Návod TikTok
B3: Návod na zjištění času stráveného na TikToku: | O3: ←ZPĚT

Sheet Návod YT
B3: Návod na zjištění času stráveného na YouTube: | O3: ←ZPĚT

Sheet Výpočty
B7: 1 | C7: Výpočet AI: | E7: =Dotazník!B7*3*365 -> 0 | I7: padesátikoruny: | K7: =Aktivita!B29/9.7 -> 0
B8: 2 | C8: Výpočet brouzdání: | E8: =Dotazník!B11*365*60*0.56 -> 0
B9: 3 | C9: Výpočet FB: | E9: =Dotazník!B15*365*0.78 -> 0
B10: 4 | C10: Výpočet IG: | E10: =Dotazník!B21*365*1.05 -> 0
B11: 5 | C11: Výpočet TikTok: | E11: =Dotazník!B27*365*2.63 -> 0
B12: 6 | C12: Výpočet YT: | E12: =Dotazník!B33*365*0.47 -> 0
B13: 7 | C13: Výpočet jiné sítě: | E13: =Dotazník!B39*365*1.5 -> 0
B14: 8 | C14: Výpočet e-maily: | E14: =Dotazník!B43*365*10 -> 0
B15: 9 | C15: Výpočet čas na PC: | E15: =Dotazník!B47*365*60*1.07 -> 0
B16: 10 | C16: Výpočet hry: | E16: =Dotazník!B51*365*360 -> 0
B17: 11 | C17: Výpočet těžení: | E17: =Dotazník!B55*365*1*580 -> 0
B18: 12 | C18: Výpočet transakce krypto: | E18: =Dotazník!B59*271000 -> 0
B19: 13 | C19: Výpočet bankovní transakce: | E19: =Dotazník!B63*365*3.5 -> 0
B20: 14 | C20: Výpočet TV: | E20: =(Dotazník!B67*55*365)+(Dotazník!B67*365*0.07*580) -> 0
C21: Produkce uhlíku na ostatní elektickou spotřebu (ledničky, osvětlení, vaření apod: | E21: =2000*580 -> 1160000 | G21: 2 MWh
C22: Produkce na vytápění: | E22: 3408000
B23: 15 | C23: Cestování autem: | E23: =Dotazník!B71*52*150/Dotazník!G71 -> 0
B24: 16 | C24: Cestování vlakem: | E24: =Dotazník!B75*52*31 -> 0
B25: 17 | C25: Cestování linkový BUS: | E25: =Dotazník!B79*52*35 -> 0
B26: 18 | C26: Cestování MHD: | E26: =Dotazník!B83*365*29*4 -> 0
C27: Odpad: | E27: =553000*0.7 -> 387100
C28: Dýchání: | E28: =900*365 -> 328500
C29: SUMA: | E29: =SUM(E7:E28) -> 5283600 | F29: g/osoba a rok
E30: =E29/1000 -> 5283.6 | F30: kg/osoba a rok
E31: =E30/1000 -> 5.2836 | F31: tun/osoba a rok
C34: Průměr celosvětový na hlavu a rok: | E34: 4.7 | F34: tun/osoba a rok
C35: Průměrný američan vyprodukuje: | E35: 14 | F35: tun/osoba a rok
C36: Průměrný Čech vyprodukuje: | E36: 8.52 | F36: tun/osoba a rok
C37: Z toho na vytápění jde cca 40 %: | E37: =E36*0.4 -> 3.408 | F37: tun/osoba a rok
C39: O kolik menší/větší produkce u Čecha: | E39: =E31/E36 -> 0.62014085 | F39: poměr
C40: O kolik menší/větší produkce u Američana: | E40: =E31/E35 -> 0.3774
C42: O kolik menší/větší produkce u Kongo: | E42: =E31/0.04 -> 132.09
C43: O kolik menší/větší produkce u Kataru: | E43: =E31/43.55 -> 0.12132262
C49: Aktivita: | D49: (g)
C50: Jedno vyhledání na Google | D50: 0.2 | E50: =D50*Aktivita!C19 -> 0
C51: Kliknutí na webovou stránku (průměrnou) | D51: 1.76 | E51: =D51*Aktivita!C20 -> 0
C52: Poslání zprávy | D52: 0.01 | E52: =D52*Aktivita!C21 -> 0
C53: Sledování monitoru | D53: 0.29 | E53: =D53*Aktivita!C22 -> 0
C54: Spotřeba počítače/min. | D54: 1.07 | E54: =D54*Aktivita!C22 -> 0
C55: Spotřeba sociální sítě/min. | D55: 1.5 | E55: =D55*Aktivita!C23 -> 0
C56: Dotazy/promty AI | D56: 3 | E56: =D56*Aktivita!C24 -> 0
D57: SUMA: | E57: =SUM(E50:E56) -> 0

Sheet Vyhodnocení
B3: Vyhodnocení
A5: Ročně vyprodukuješ přibližně | F5: =Výpočty!E31 -> 5.2836 | G5: tun CO2.
B7: To představuje | F7: =F5/1.2 -> 4.403 | G7: malých osobních automobilů Škoda Fabia
C9: nebo | F9: =F5*1000/4.7 -> 1124.1702 | G9: klasických červených stavebních cihel.
A12: Průměrný Čech vyproduje | F12: 8.52 | G12: tun CO2 za rok.
A14: Tvá roční produkce CO2 je | F14: =Výpočty!E39 -> 0.62014085 | G14: násobek produkce CO2 průměrného Čecha.
F15: =Výpočty!E40 -> 0.3774 | G15: násobek produkce CO2 průměrného Američana.
F16: =Výpočty!E42 -> 132.09 | G16: násobek produkce CO2 průměrného obyvatele Demokratické republiky Kongo (Afrika).
F17: =Výpočty!E43 -> 0.12132262 | G17: násobek produkce CO2 průměrného obyvatele Kataru.
